BEGIN:VCALENDAR
PRODID:-//github.com/rianjs/ical.net//NONSGML ical.net 4.0//EN
VERSION:2.0
BEGIN:VTIMEZONE
TZID:Eastern Standard Time
X-LIC-LOCATION:America/New_York
BEGIN:STANDARD
DTSTART:20241103T020000
RRULE:FREQ=YEARLY;BYDAY=1SU;BYMONTH=11
TZNAME:EST
TZOFFSETFROM:-0400
TZOFFSETTO:-0500
END:STANDARD
BEGIN:DAYLIGHT
DTSTART:20250309T020000
RRULE:FREQ=YEARLY;BYDAY=2SU;BYMONTH=3
TZNAME:EDT
TZOFFSETFROM:-0500
TZOFFSETTO:-0400
END:DAYLIGHT
END:VTIMEZONE
BEGIN:VEVENT
DTEND;TZID=Eastern Standard Time:20260617T200000
DTSTAMP:20260419T204009Z
DTSTART;TZID=Eastern Standard Time:20260513T170000
LOCATION:Virtual
ORGANIZER;CN=;SENT-BY="mailto:":
SEQUENCE:0
SUMMARY: AOBA: RPA/FMA - Real Estate Investment and Finance
UID:0ba673b5-662f-4864-a7d4-263a286ec3f0
END:VEVENT
END:VCALENDAR
