BEGIN:VCALENDAR
PRODID:-//github.com/rianjs/ical.net//NONSGML ical.net 4.0//EN
VERSION:2.0
BEGIN:VTIMEZONE
TZID:Eastern Standard Time
X-LIC-LOCATION:America/New_York
BEGIN:STANDARD
DTSTART:20241103T020000
RRULE:FREQ=YEARLY;BYDAY=1SU;BYMONTH=11
TZNAME:EST
TZOFFSETFROM:-0400
TZOFFSETTO:-0500
END:STANDARD
BEGIN:DAYLIGHT
DTSTART:20250309T020000
RRULE:FREQ=YEARLY;BYDAY=2SU;BYMONTH=3
TZNAME:EDT
TZOFFSETFROM:-0500
TZOFFSETTO:-0400
END:DAYLIGHT
END:VTIMEZONE
BEGIN:VEVENT
DTEND;TZID=Eastern Standard Time:20260814T153000
DTSTAMP:20260422T083754Z
DTSTART;TZID=Eastern Standard Time:20260810T083000
LOCATION:Join Us Virtually
ORGANIZER;CN=;SENT-BY="mailto:":
SEQUENCE:0
SUMMARY: AOBA: CAM - Certified Apartment Manager Certification
UID:c50e9a08-c45c-4ff1-87cd-c5537fc3ceaa
END:VEVENT
END:VCALENDAR
